BEGIN:VCALENDAR
VERSION:2.0
PRODID:-//Nack Theater - ECPv6.10.1//NONSGML v1.0//EN
CALSCALE:GREGORIAN
METHOD:PUBLISH
X-ORIGINAL-URL:https://nacktheater.com
X-WR-CALDESC:Events for Nack Theater
REFRESH-INTERVAL;VALUE=DURATION:PT1H
X-Robots-Tag:noindex
X-PUBLISHED-TTL:PT1H
BEGIN:VTIMEZONE
TZID:UTC
BEGIN:STANDARD
TZOFFSETFROM:+0000
TZOFFSETTO:+0000
TZNAME:UTC
DTSTART:20240101T000000
END:STANDARD
END:VTIMEZONE
BEGIN:VEVENT
DTSTART;TZID=UTC:20241219T190000
DTEND;TZID=UTC:20241219T203000
DTSTAMP:20260418T080717
CREATED:20240916T160811Z
LAST-MODIFIED:20241105T170212Z
UID:10000073-1734634800-1734640200@nacktheater.com
SUMMARY:David Gaschens A Celebration of Christmas
DESCRIPTION:
URL:https://nacktheater.com/event/david-gaschens-a-celebration-of-christmas/
LOCATION:Nack Theater\, 6711 Oak St\, Frisco\, TX\, 75034\, United States
ATTACH;FMTTYPE=image/png:https://nacktheater.com/wp-content/uploads/2024/09/Screenshot-2024-11-05-at-11.01.30 AM.png
END:VEVENT
BEGIN:VEVENT
DTSTART;TZID=UTC:20241212T183000
DTEND;TZID=UTC:20241212T203000
DTSTAMP:20260418T080717
CREATED:20240916T162611Z
LAST-MODIFIED:20241120T231503Z
UID:10000074-1734028200-1734035400@nacktheater.com
SUMMARY:The Most Wonderful Crime of the Year
DESCRIPTION:The Most Wonderful Crime of the Year! \nSilver bells are ringing at this seasonal standup performance\, but the jolly jokester gets upstaged by an event far worse than bad holiday comedy: a murder! With humbug hovering over the holiday\, it is up to the unamused audience to unravel the mystery of whodunnit like last year’s tacky knitted holiday sweater. While murder is making the night not-so-merry-and-bright\, you must gather information\, bribe your guests for clues\, and solve the crime before this comedy act becomes a tragedy!
URL:https://nacktheater.com/event/the-most-wonderful-crime-of-the-year/
LOCATION:Nack Theater\, 6711 Oak St\, Frisco\, TX\, 75034\, United States
ATTACH;FMTTYPE=image/png:https://nacktheater.com/wp-content/uploads/2024/09/Screenshot-2024-11-20-at-4.57.23 PM.png
END:VEVENT
BEGIN:VEVENT
DTSTART;TZID=UTC:20241120T183000
DTEND;TZID=UTC:20241120T200000
DTSTAMP:20260418T080717
CREATED:20241120T220430Z
LAST-MODIFIED:20241120T220430Z
UID:10000127-1732127400-1732132800@nacktheater.com
SUMMARY:Nack Theater Christmas Concert
DESCRIPTION:Get into the holiday spirit with a Classics Christmas Concert at the Nack Theater! Featuring Gabbie Foote and Christy Young.\nPerfect for kids and adults alike\, enjoy an enchanting evening of live Christmas music\, festive cheer\, and holiday treats. \nIndulge in cozy hot chocolate for the little ones and delightful adult Christmas cocktails while creating magical memories with family and friends.
URL:https://nacktheater.com/event/nack-theater-christmas-concert/
LOCATION:Nack Theater\, 6711 Oak St\, Frisco\, TX\, 75034\, United States
ATTACH;FMTTYPE=image/png:https://nacktheater.com/wp-content/uploads/2024/11/Concert.png
END:VEVENT
END:VCALENDAR